BEGIN:VCALENDAR
VERSION:2.0
PRODID:-//wp-events-plugin.com//7.2.3.1//EN
TZID:Europe/Berlin
X-WR-TIMEZONE:Europe/Berlin
BEGIN:VEVENT
UID:3@ehemalige-mariengardener.de
DTSTART;TZID=Europe/Berlin:20170909T190000
DTEND;TZID=Europe/Berlin:20170909T233000
DTSTAMP:20170810T154907Z
URL:https://ehemalige-mariengardener.de/events/ehemaligenfest/
SUMMARY:Ehemaligenfest
DESCRIPTION:Am 09.09.2017 wird das nächste Ehemaligenfest stattfinden!\n\n
 Bayerischer Abend\nGroßes Ehemaligenfest am Gymnasium Mariengarden.\nSams
 tag\, 09.09.2017 um 19:00 h\nEs erwarten Euch original Paulaner Oktoberfes
 tbier\, Gegrilltes sowie eine Verlosung von 2 VIP Karten für Schalke 04.\
 nEs darf auch bayerische Tracht getragen werden.\nEintritt frei!\n\nWir m
 öchten wirklich ein großes Fest veranstalten\, das unseren Verein auch u
 m neue Mitglieder erweitern kann. In 2017 ist das Erreichen der Marke von 
 500 Mitgliedern großes Ziel. Bitte helft uns durch Eure Teilnahme und Wer
 bung für das Fest!\n\nEinladung Ehemaligenfest 2017
ATTACH;FMTTYPE=image/jpeg:https://ehemalige-mariengardener.de/wp-content/u
 ploads/2017/02/Ehemaligenfest17.png
CATEGORIES:Ehemaligenfest
LOCATION:Gymnasium Mariengarden\, Vennweg 6\, Borken\, 46325\, Deutschland
GEO:51.90609;6.778059999999982
X-APPLE-STRUCTURED-LOCATION;VALUE=URI;X-ADDRESS=Vennweg 6\, Borken\, 46325\
 , Deutschland;X-APPLE-RADIUS=100;X-TITLE=Gymnasium Mariengarden:geo:51.906
 09,6.778059999999982
END:VEVENT
BEGIN:VTIMEZONE
TZID:Europe/Berlin
X-LIC-LOCATION:Europe/Berlin
BEGIN:DAYLIGHT
DTSTART:20170326T030000
TZOFFSETFROM:+0100
TZOFFSETTO:+0200
TZNAME:CEST
END:DAYLIGHT
END:VTIMEZONE
END:VCALENDAR